BEGIN:VCALENDAR
VERSION:2.0
PRODID:-//pretix//pretix.eu//
BEGIN:VTIMEZONE
TZID:Europe/Berlin
BEGIN:STANDARD
DTSTART:20001029T040000
RRULE:FREQ=YEARLY;BYDAY=-1SU;BYMONTH=10
TZNAME:CET
TZOFFSETFROM:+0200
TZOFFSETTO:+0100
END:STANDARD
BEGIN:DAYLIGHT
DTSTART:20000326T030000
RRULE:FREQ=YEARLY;BYDAY=-1SU;BYMONTH=3
TZNAME:CEST
TZOFFSETFROM:+0100
TZOFFSETTO:+0200
END:DAYLIGHT
END:VTIMEZONE
BEGIN:VEVENT
UID:pretix-stpaulirollerderby-rlsch-st-paulirollerderby-4644179@stpauliroll
 erderby.vereinsticket.de
DTSTART;TZID=Europe/Berlin:20250913T140000
DTEND;TZID=Europe/Berlin:20250914T180000
DESCRIPTION:Tickets: https://stpaulirollerderby.vereinsticket.de/rlsch-st-p
 aulirollerderby/4644179/\nEinlass: 13.09.2025 13:00\nVeranstalter: FC St. 
 Pauli Roller Derby
DTSTAMP:20260420T034730Z
LOCATION:Christianeum\, Otto-Ernst-Straße 34\, 22605 Hamburg
SUMMARY:Turnier Wochenende St. Pauli Roller Derby - Dresden Pioneers - Wet 
 City Rollers - Prussian Fat Cats
END:VEVENT
END:VCALENDAR
