BEGIN:VCALENDAR
VERSION:2.0
PRODID:-//pretix//pretix.eu//
BEGIN:VTIMEZONE
TZID:Europe/Berlin
BEGIN:STANDARD
DTSTART:20001029T040000
RRULE:FREQ=YEARLY;BYDAY=-1SU;BYMONTH=10
TZNAME:CET
TZOFFSETFROM:+0200
TZOFFSETTO:+0100
END:STANDARD
BEGIN:DAYLIGHT
DTSTART:20000326T030000
RRULE:FREQ=YEARLY;BYDAY=-1SU;BYMONTH=3
TZNAME:CEST
TZOFFSETFROM:+0100
TZOFFSETTO:+0200
END:DAYLIGHT
END:VTIMEZONE
BEGIN:VEVENT
UID:pretix-stpaulirollerderby-rlsch-st-paulirollerderby-4592140@stpauliroll
 erderby.vereinsticket.de
DTSTART;TZID=Europe/Berlin:20250621T150000
DTEND;TZID=Europe/Berlin:20250621T191500
DESCRIPTION:Tickets: https://stpaulirollerderby.vereinsticket.de/rlsch-st-p
 aulirollerderby/4592140/\nEinlass: 21.06.2025 14:15\nVeranstalter: FC St. 
 Pauli Roller Derby
DTSTAMP:20260419T223249Z
LOCATION:Wirtschaftsgymnasium St.Pauli\, Budapester Straße 58\, 20359 Hamb
 urg
SUMMARY:1. Bundesliga SPRD A vs. Hamburg Roller Derby | SPRD B vs. Bembel T
 own Roller Derby
END:VEVENT
END:VCALENDAR
