BEGIN:VCALENDAR
VERSION:2.0
PRODID:-//pretix//pretix.eu//
BEGIN:VTIMEZONE
TZID:Europe/Berlin
BEGIN:STANDARD
DTSTART:20001029T040000
RRULE:FREQ=YEARLY;BYDAY=-1SU;BYMONTH=10
TZNAME:CET
TZOFFSETFROM:+0200
TZOFFSETTO:+0100
END:STANDARD
BEGIN:DAYLIGHT
DTSTART:20000326T030000
RRULE:FREQ=YEARLY;BYDAY=-1SU;BYMONTH=3
TZNAME:CEST
TZOFFSETFROM:+0100
TZOFFSETTO:+0200
END:DAYLIGHT
END:VTIMEZONE
BEGIN:VEVENT
UID:pretix-stpaulirollerderby-rlsch-st-paulirollerderby-3855942@stpauliroll
 erderby.vereinsticket.de
DTSTART;TZID=Europe/Berlin:20230311T154500
DTEND;TZID=Europe/Berlin:20230311T200000
DESCRIPTION:Tickets: https://stpaulirollerderby.vereinsticket.de/rlsch-st-p
 aulirollerderby/3855942/\nEinlass: 11.03.2023 15:00\nVeranstalter: FC St. 
 Pauli Roller Derby
DTSTAMP:20260420T014959Z
LOCATION:Wirtschaftsgymnasium St.Pauli\, Budapester Straße 58\, 20359 Hamb
 urg
SUMMARY:St. Pauli Roller Derby A vs. Nantes (FR) | St. Pauli Roller Derby B
  vs. Copenhagen/Odense (DK)
END:VEVENT
END:VCALENDAR
